BEGIN:VCALENDAR
VERSION:2.0
PRODID:-//Augrédelair - ECPv6.15.20//NONSGML v1.0//EN
CALSCALE:GREGORIAN
METHOD:PUBLISH
X-WR-CALNAME:Augrédelair
X-ORIGINAL-URL:https://www.augredelair.fr
X-WR-CALDESC:Évènements pour Augrédelair
REFRESH-INTERVAL;VALUE=DURATION:PT1H
X-Robots-Tag:noindex
X-PUBLISHED-TTL:PT1H
BEGIN:VTIMEZONE
TZID:Europe/Paris
BEGIN:DAYLIGHT
TZOFFSETFROM:+0100
TZOFFSETTO:+0200
TZNAME:CEST
DTSTART:20200329T010000
END:DAYLIGHT
BEGIN:STANDARD
TZOFFSETFROM:+0200
TZOFFSETTO:+0100
TZNAME:CET
DTSTART:20201025T010000
END:STANDARD
BEGIN:DAYLIGHT
TZOFFSETFROM:+0100
TZOFFSETTO:+0200
TZNAME:CEST
DTSTART:20210328T010000
END:DAYLIGHT
BEGIN:STANDARD
TZOFFSETFROM:+0200
TZOFFSETTO:+0100
TZNAME:CET
DTSTART:20211031T010000
END:STANDARD
BEGIN:DAYLIGHT
TZOFFSETFROM:+0100
TZOFFSETTO:+0200
TZNAME:CEST
DTSTART:20220327T010000
END:DAYLIGHT
BEGIN:STANDARD
TZOFFSETFROM:+0200
TZOFFSETTO:+0100
TZNAME:CET
DTSTART:20221030T010000
END:STANDARD
END:VTIMEZONE
BEGIN:VEVENT
DTSTART;TZID=Europe/Paris:20211106T080000
DTEND;TZID=Europe/Paris:20211107T190000
DTSTAMP:20260422T020501
CREATED:20211009T150340Z
LAST-MODIFIED:20211029T074831Z
UID:29832-1636185600-1636311600@www.augredelair.fr
SUMMARY:MOV2021 Reporté au 6-7 Novembre
DESCRIPTION:Le MOV Reporté au 6-7 novembre!\nCette année encore\, c’est avec grand plaisir que nous organisons le MOV 2021. \nLe principe reste le même\, marche ou vol\, marche ou marche\, c’est selon… il est autorisé de courir! \nL’idée est de rassembler des pilotes motivés et affutés (ou pas) pour accumuler du déniveler positif et de faire des vols tranquilles dans une ambiance conviviale et décontractée.\nPetite nouveauté cette année\, le géocaching vous fera gagner des cadeaux que vous pourrez choisir directement sur place! 😉 \nVous aurez votre matériel de vol complet sur vous en permanence\, une assistance n’est pas autorisée.\nPour vous inscrire\, cochez le ou les jours de votre présence via ce Doodle avant le 5 novembre! Mentionnez votre nom et prénom + numéro de licence. \nLe prix est de 10€ par jour ou 15€ pour les 2 jours. \nRappel matériel et assurance : vous devez être équipé d’une voile et d’une sellette homologuée et posséder avec vous un parachute de secours. Il est impératif d’être en ordre de licence et d’assurance. Aucun brevet n’est nécessaire. \nUn petit barbecue sera organisé le dimanche soir pour clôturer l’évènement à l’attéro de Gréo.\nIl est trop tard pour vous entrainer\, mais vous le savez\, ce qui compte c’est de participer! \nAu plaisir de vous y voir! \n 
URL:https://www.augredelair.fr/event/mov2021/
LOCATION:Greolieres\, 55-49 Allée de la Ferrage\, Greolieres\, 06620\, France
CATEGORIES:Compétition
ATTACH;FMTTYPE=image/jpeg:https://www.augredelair.fr/wp-content/uploads/2021/10/MOV2021-01-Plan-de-travail-1-scaled.jpg
END:VEVENT
END:VCALENDAR