BEGIN:VCALENDAR
VERSION:2.0
PRODID:-//Augrédelair - ECPv6.15.20//NONSGML v1.0//EN
CALSCALE:GREGORIAN
METHOD:PUBLISH
X-WR-CALNAME:Augrédelair
X-ORIGINAL-URL:https://www.augredelair.fr
X-WR-CALDESC:Évènements pour Augrédelair
REFRESH-INTERVAL;VALUE=DURATION:PT1H
X-Robots-Tag:noindex
X-PUBLISHED-TTL:PT1H
BEGIN:VTIMEZONE
TZID:Europe/Paris
BEGIN:DAYLIGHT
TZOFFSETFROM:+0100
TZOFFSETTO:+0200
TZNAME:CEST
DTSTART:20200329T010000
END:DAYLIGHT
BEGIN:STANDARD
TZOFFSETFROM:+0200
TZOFFSETTO:+0100
TZNAME:CET
DTSTART:20201025T010000
END:STANDARD
BEGIN:DAYLIGHT
TZOFFSETFROM:+0100
TZOFFSETTO:+0200
TZNAME:CEST
DTSTART:20210328T010000
END:DAYLIGHT
BEGIN:STANDARD
TZOFFSETFROM:+0200
TZOFFSETTO:+0100
TZNAME:CET
DTSTART:20211031T010000
END:STANDARD
BEGIN:DAYLIGHT
TZOFFSETFROM:+0100
TZOFFSETTO:+0200
TZNAME:CEST
DTSTART:20220327T010000
END:DAYLIGHT
BEGIN:STANDARD
TZOFFSETFROM:+0200
TZOFFSETTO:+0100
TZNAME:CET
DTSTART:20221030T010000
END:STANDARD
END:VTIMEZONE
BEGIN:VEVENT
DTSTART;VALUE=DATE:20210227
DTEND;VALUE=DATE:20210301
DTSTAMP:20260422T215643
CREATED:20210205T135151Z
LAST-MODIFIED:20210208T132106Z
UID:29705-1614384000-1614556799@www.augredelair.fr
SUMMARY:MOV.2021 Hivernal
DESCRIPTION:MOV 2021 Hivernal\nLe marche ou vol 2021 se déroulera sur deux week-end\, le premier arrive bientôt !!! Les 27 et 28 Février et le deuxième week-end se déroulera normalement les 23 et 24 Octobre. \nPour s’inscrire au marche ou vol version hivernale avec ou sans neige\, tout dépendra des conditions météo\, voici le lien\nPour rappel\, le MOV est plutôt une compétition amicale qu’une vraie compétition\, le but est de s’amuser entres potes et chacun à son rythme. Certains le font sans matos light.\nPour le moment\, il est encore possible d’emprunter la voile light du club\, elle n’est pas encore vendue\, pensez à la réserver. \nLe lieu sera définit en fonction des conditions météo du week-end.\nL’heure du rendez vous sera fixé par la même occasion. \nUn mail vous sera envoyé (+ WhatsApp + tchat du site) pour le lieu et l’heure du rendez-vous le jeudi 25 février. \nEn espérant vous voir nombreux sur ce MOV2021 !!
URL:https://www.augredelair.fr/event/mov-2021-hivernal/
LOCATION:Greolieres\, 55-49 Allée de la Ferrage\, Greolieres\, 06620\, France
CATEGORIES:Compétition,Evènement Club
ATTACH;FMTTYPE=image/jpeg:https://www.augredelair.fr/wp-content/uploads/2021/02/MOV2021H.jpg
END:VEVENT
END:VCALENDAR