BEGIN:VCALENDAR
VERSION:2.0
PRODID:-//Augrédelair - ECPv6.15.20//NONSGML v1.0//EN
CALSCALE:GREGORIAN
METHOD:PUBLISH
X-WR-CALNAME:Augrédelair
X-ORIGINAL-URL:https://www.augredelair.fr
X-WR-CALDESC:Évènements pour Augrédelair
REFRESH-INTERVAL;VALUE=DURATION:PT1H
X-Robots-Tag:noindex
X-PUBLISHED-TTL:PT1H
BEGIN:VTIMEZONE
TZID:Europe/Paris
BEGIN:DAYLIGHT
TZOFFSETFROM:+0100
TZOFFSETTO:+0200
TZNAME:CEST
DTSTART:20200329T010000
END:DAYLIGHT
BEGIN:STANDARD
TZOFFSETFROM:+0200
TZOFFSETTO:+0100
TZNAME:CET
DTSTART:20201025T010000
END:STANDARD
BEGIN:DAYLIGHT
TZOFFSETFROM:+0100
TZOFFSETTO:+0200
TZNAME:CEST
DTSTART:20210328T010000
END:DAYLIGHT
BEGIN:STANDARD
TZOFFSETFROM:+0200
TZOFFSETTO:+0100
TZNAME:CET
DTSTART:20211031T010000
END:STANDARD
BEGIN:DAYLIGHT
TZOFFSETFROM:+0100
TZOFFSETTO:+0200
TZNAME:CEST
DTSTART:20220327T010000
END:DAYLIGHT
BEGIN:STANDARD
TZOFFSETFROM:+0200
TZOFFSETTO:+0100
TZNAME:CET
DTSTART:20221030T010000
END:STANDARD
END:VTIMEZONE
BEGIN:VEVENT
DTSTART;VALUE=DATE:20210911
DTEND;VALUE=DATE:20210913
DTSTAMP:20260422T050734
CREATED:20210819T075048Z
LAST-MODIFIED:20210908T051050Z
UID:29684-1631318400-1631491199@www.augredelair.fr
SUMMARY:Compétition Col de Bleine
DESCRIPTION:Les 11 et 12 septembre 2021 (report 25/26 septembre)  \nComme chaque année\, notre compétition du Col-de-Bleine est prévue pour le premier weekend de septembre… On devrait avoir assez de participants cette fois (avec 17 confirmés pour 57 inscrits). reste à espérer que la météo sera de la partie d’autant plus que le report est déjà assez compromis puisque le samedi sera en conflit avec le Championnat de France (dont les dates ont été annoncées après que j’ai défini les dates de la compétition). Comme l’année dernière\, on maintiendra la première date même s’il n’y a qu’une journée volable… On sera basé au restaurant du lac de Thorenc (la flambée du lac). \nNous allons avoir besoin de quelques bénévoles pour aider et il me faut savoir d’avance qui pourrait faire quoi. Voilà les quelques postes à assurer:\n– 1 responsable informatique (ayant un pc portable équipé de Cargol et sachant l’utiliser)\n– 1 responsable récup’ (qui centralise tout)\n– Si on a une navette\, plusieurs conducteurs pour aléger ce rôle (monter les pilotes au déco à partir de 9h et récupérer les pilotes vachés)\n– 1 ou 2 personnes pour faire les courses (petit déj et paniers repas)\n– 2 personnes pour préparer le petit déj (mettre en place les 2 tables\, les jus de fruit\, du pain et quelques cakes)\n– 4 à 6 personnes pour préparer les paniers-repas\n– 1 personne pour s’occuper des inscriptions avec moi (en plus du responsable informatique)\n– 1 personne pour s’occuper du pointage récup’ (avec le déchargement des GPS)\n– 3 ouvreurs\n– et des compétiteurs (pour rappel les membres du club n’ont pas à payer leur inscription mais\, naturellement\, il faut quand même avoir une carte compétiteur). \nMerci de vous manifester assez tôt… \nA bientôt ! \nBenoit. \nPour s’inscrire c’est ici https://parapente.ffvl.fr/compet/3802 \nGratuit pour les membres du club Augredelair. Certificat médical obligatoire pour obtenir la carte compétiteur.
URL:https://www.augredelair.fr/event/competition-col-de-bleine-2/
LOCATION:Col de Bleine\, Route de Castellane\, Andon\, Alpes Maritimes\, 06750\, France
CATEGORIES:Compétition
ATTACH;FMTTYPE=image/jpeg:https://www.augredelair.fr/wp-content/uploads/2020/09/bleine2020-04.jpg
END:VEVENT
END:VCALENDAR