BEGIN:VCALENDAR
VERSION:2.0
PRODID:-//Augrédelair - ECPv6.15.20//NONSGML v1.0//EN
CALSCALE:GREGORIAN
METHOD:PUBLISH
X-WR-CALNAME:Augrédelair
X-ORIGINAL-URL:https://www.augredelair.fr
X-WR-CALDESC:Évènements pour Augrédelair
REFRESH-INTERVAL;VALUE=DURATION:PT1H
X-Robots-Tag:noindex
X-PUBLISHED-TTL:PT1H
BEGIN:VTIMEZONE
TZID:Europe/Paris
BEGIN:DAYLIGHT
TZOFFSETFROM:+0100
TZOFFSETTO:+0200
TZNAME:CEST
DTSTART:20200329T010000
END:DAYLIGHT
BEGIN:STANDARD
TZOFFSETFROM:+0200
TZOFFSETTO:+0100
TZNAME:CET
DTSTART:20201025T010000
END:STANDARD
BEGIN:DAYLIGHT
TZOFFSETFROM:+0100
TZOFFSETTO:+0200
TZNAME:CEST
DTSTART:20210328T010000
END:DAYLIGHT
BEGIN:STANDARD
TZOFFSETFROM:+0200
TZOFFSETTO:+0100
TZNAME:CET
DTSTART:20211031T010000
END:STANDARD
BEGIN:DAYLIGHT
TZOFFSETFROM:+0100
TZOFFSETTO:+0200
TZNAME:CEST
DTSTART:20220327T010000
END:DAYLIGHT
BEGIN:STANDARD
TZOFFSETFROM:+0200
TZOFFSETTO:+0100
TZNAME:CET
DTSTART:20221030T010000
END:STANDARD
END:VTIMEZONE
BEGIN:VEVENT
DTSTART;TZID=Europe/Paris:20211204T180000
DTEND;TZID=Europe/Paris:20211204T210000
DTSTAMP:20260425T160855
CREATED:20211122T121250Z
LAST-MODIFIED:20211122T121429Z
UID:29864-1638640800-1638651600@www.augredelair.fr
SUMMARY:Assemblée générale 2021
DESCRIPTION:L’Assemblée Générale se déroulera le 4 Décembre à 18h00 à la salle du lavoir à Gréolières.\nVous trouverez en pièce jointe l’ordre du jour\, la candidature pour faire partie du Conseil d’administration sachant que Pilou va laisser sa place de secrétaire. Vous trouverez également un Pouvoir si jamais vous ne pouvez pas être disponible\, merci de nous le faire parvenir en retour  par mail (verrier.arthur@gmail.com) ou alors le donner à la personne que vous choisissez pour vous représenter. \nPour clôturer l’ Assemblée Générale nous vous proposons de faire un repas partagé. Le Club prendra en charge les boissons et il vous suffit d’amener à manger.
URL:https://www.augredelair.fr/event/assemblee-generale-2021/
LOCATION:Salle du Lavoir\, Rue de la Barricade\, Gréolières\, Alpes Maritimes\, 06620\, France
CATEGORIES:Assemblée Générale
ATTACH;FMTTYPE=image/jpeg:https://www.augredelair.fr/wp-content/uploads/2019/12/82431506_1061701334169934_3485607638513745920_o.jpg
END:VEVENT
END:VCALENDAR